BEGIN:VCALENDAR
VERSION:2.0
PRODID:-//wp-events-plugin.com//5.99//EN
TZID:Europe/Berlin
X-WR-TIMEZONE:Europe/Berlin
BEGIN:VEVENT
UID:9973@kulturinsz.de
DTSTART;TZID=Europe/Berlin:20260419T183000
DTEND;TZID=Europe/Berlin:20260419T203000
DTSTAMP:20260413T164830Z
URL:https://kulturinsz.de/cms/aktuelles/events/benefizkonzert-musiker-aus-
 der-partnerstadt-charkiw/
SUMMARY:Benefizkonzert - Musiker aus der Partnerstadt Charkiw
DESCRIPTION:ACHTUNG: Versehentlich wurde das Datum mit dem "18.04.2026" hie
 r falsch eingetragen - bitte beachten: es handelt sich um den 19.04.2026!\
 n\n„Der Hoffnung Flügel schenken!“ – Das Motto des Benefizkonzerts\
 , das am 19. April 2026 um 18:30 Uhr im Bürgersaal des Rathauses Zehlendo
 rf stattfindet\, ist nicht zufällig doppeldeutig. Der Erlös soll dem Erw
 erb eines Salonflügels für die Charkiwer Nationale Universität der Kün
 ste dienen. Das Konzert ist Teil einer Spendenaktion\, die bereits seit Ju
 li 2024 läuft. Russische Bomben zerstörten im März 2022 die Heizungsanl
 age der Universität. Auf einen Schlag gingen dabei auch 70 Konzertflügel
  verloren. Seither finden Prüfungen für Studenten und Konzerte für die 
 über eine Million Einwohner der Stadt Charkiw im Luftschutzkeller statt.\
 n\nEin Musikerquartett freut sich darauf\, dem Publikum einen unvergesslic
 hen Konzertabend zu bescheren: das aus Ihor Sediuk und Oleh Kopeliuk beste
 hende Charkiwer Klavierduo\, Ihor Cherniavskyi an der Violine und der Klar
 inettist Ruslan Kashyrtsev. Ihor Cherniavskyi trägt den Ehrentitel „Ver
 dienter Künstler der Ukraine“.\nZur Aufführung gelangen Kompositionen 
 von Johann Sebastian Bach und Johannes Brahms. Ergänzt wird das Programm 
 durch Werke ukrainischer Komponisten der Romantik und Gegenwart: Mykola Ly
 senko\, Serhyi Bortkiewicz\, Volodymyr Ptuschkin\, Ruslan Kashyrtsev und V
 olodymyr Maschika. Der Letztgenannte dient derzeit in der ukrainischen Arm
 ee.\n\n\n\nWeiterlesen:\n\nhttps://www.berlin.de/ba-steglitz-zehlendorf/po
 litik-und-verwaltung/beauftragte/partnerstaedte/artikel.1652695.php
LOCATION:Bürgersaal im Rathaus Zehlendorf\, Teltower Damm 18\, Berlin\, 14
 163\, Deutschland
GEO:52.43282;13.258749999999964
X-APPLE-STRUCTURED-LOCATION;VALUE=URI;X-ADDRESS=Teltower Damm 18\, Berlin\,
  14163\, Deutschland;X-APPLE-RADIUS=100;X-TITLE=Bürgersaal im Rathaus Zeh
 lendorf:geo:52.43282,13.258749999999964
END:VEVENT
BEGIN:VTIMEZONE
TZID:Europe/Berlin
X-LIC-LOCATION:Europe/Berlin
BEGIN:DAYLIGHT
DTSTART:20260329T030000
TZOFFSETFROM:+0100
TZOFFSETTO:+0200
TZNAME:CEST
END:DAYLIGHT
END:VTIMEZONE
END:VCALENDAR