BEGIN:VCALENDAR
VERSION:2.0
PRODID:-//wp-events-plugin.com//5.99//EN
TZID:Europe/Berlin
X-WR-TIMEZONE:Europe/Berlin
BEGIN:VEVENT
UID:9971@kulturinsz.de
DTSTART;TZID=Europe/Berlin:20260421T193000
DTEND;TZID=Europe/Berlin:20260421T213000
DTSTAMP:20260411T170106Z
URL:https://kulturinsz.de/cms/aktuelles/events/lcb-hilde-domin-mai-98-rena
 te-von-mangoldt-hilde-domin-mai-98-renate-von-mangoldt-michael-hamburger-j
 uni-04-renate-von-mangoldt-michael-hamburger-juni-04-renate-von-m/
SUMMARY:LCB: Fundsache Original: Hilde Domin\, Michael Hamburger
DESCRIPTION:Der Briefwechsel 1963–68\nLesungen\, Materialien und Gespräc
 h\nmit Marion Poschmann und Till Greite\nModeration: Matthias Weichelt\n\n
 Für Michael Hamburger musste jedes Gedicht geschrieben werden\, als sei e
 s das letzte. Diese existentielle Auffassung von Poesie prägt auch den Br
 iefwechsel mit Hilde Domin. Beide haben die Erfahrung des Exils gemacht\, 
 daraus aber unterschiedliche Schlüsse gezogen. Während die Muttersprache
  für Domin das „Unverlierbare“\, das „unabnehmbare Zuhause“ bleib
 t\, kann Hamburger seinem Deutsch „nicht mehr trauen“\, bewegt sich da
 rin wie einer\, der „auf Krücken“ geht. In der in SINN UND FORM 2/202
 6 erstmals veröffentlichten Korrespondenz geht es um das ›carrying over
 ‹ zwischen den Sprachen und das Übersetzen als kompensatorische Strateg
 ie\, das Ausgestoßensein der Exilierten und die Wiederbegegnung mit einem
  Land\, das längst ein anderes geworden ist.\n\nÜber diesen intensiven l
 yrischen Austausch und die Suche nach der labilen Wahrheit des Gedichts sp
 richt Matthias Weichelt\, Chefredakteur von SINN UND FORM\, mit dem Litera
 turwissenschaftler und Herausgeber des Briefwechsels Till Greite (Universi
 ty of London) und der Autorin Marion Poschmann\, von der zuletzt 2025 die 
 ›Verslegende‹ »Die Winterschwimmerin« (Suhrkamp\, 2025) erschien.\n\
 nIn Zusammenarbeit mit SINN UND FORM.\n\nhttps://lcb.de/programm/fundsache
 -original-domin-hamburger/
LOCATION:Literarisches Colloquium Berlin (LCB)\, Am Sandwerder 5\, Berlin\,
  14109\, Deutschland
GEO:52.4224113;13.179606299999932
X-APPLE-STRUCTURED-LOCATION;VALUE=URI;X-ADDRESS=Am Sandwerder 5\, Berlin\, 
 14109\, Deutschland;X-APPLE-RADIUS=100;X-TITLE=Literarisches Colloquium Be
 rlin (LCB):geo:52.4224113,13.179606299999932
END:VEVENT
BEGIN:VTIMEZONE
TZID:Europe/Berlin
X-LIC-LOCATION:Europe/Berlin
BEGIN:DAYLIGHT
DTSTART:20260329T030000
TZOFFSETFROM:+0100
TZOFFSETTO:+0200
TZNAME:CEST
END:DAYLIGHT
END:VTIMEZONE
END:VCALENDAR