BEGIN:VCALENDAR
VERSION:2.0
PRODID:-//wp-events-plugin.com//5.99//EN
TZID:Europe/Berlin
X-WR-TIMEZONE:Europe/Berlin
BEGIN:VEVENT
UID:9932@kulturinsz.de
DTSTART;TZID=Europe/Berlin;VALUE=DATE:20260514
DTEND;TZID=Europe/Berlin;VALUE=DATE:20260928
DTSTAMP:20260407T131400Z
URL:https://kulturinsz.de/cms/aktuelles/events/niina-lehtonen-braun-my-bod
 y-is-my-studio/
SUMMARY:Niina Lehtonen Braun – My body is my studio.
DESCRIPTION:Laufzeit der Ausstellung\n14.05.2026–27.09.2026\nMo-So\, 10
 –18 Uhr I Eintritt frei\n\nDie Einzelausstellung in der Schwartzschen Vi
 lla von Niina Lehtonen Braun My body is my studio beschäftigt sich mit de
 m weiblichen Körper und seinen Veränderungen\, wie beispielsweise durch 
 die Wechseljahre oder Geburt und den sogenannten Frauenkrankheiten. Für d
 ie von Christine Nippe kuratierte Ausstellung sammelte Lehtonen Braun Gesc
 hichten\, Anekdoten und Erinnerungen anderer Frauen zu diesem Thema\, die 
 sie in ihre Tuschemalereien\, Erzählcollagen und einen Animationsfilm üb
 erführt.\n\nBereits seit vielen Jahren erkundet Niina Lehtonen Braun in i
 hren Collagen und Gemälden die Frau als Teil einer Generationenkette\, ve
 rschiedene Rollen des Frauseins und die damit verbundenen Erwartungen und 
 Zuschreibungen. Die Ausstellung und das Kunstbuch ermöglichen durch die e
 igenen persönlichen Themen einen sensiblen Zugang für Andere und ein Ein
 tauchen in Fragen rund um den weiblichen Körper. Ausstellung und Buch ver
 stehen sich dabei als alternative Auseinandersetzungen mit Weiblichkeit un
 d bilden eine andere Erzählung als es jahrelang die Medizin praktizierte\
 , die vor allem vom männlichen Körper ausging und damit der Besonderheit
  des weiblichen Körpers wenig Beachtung schenkte.\n\nDie Künstlerin dazu
 : „Mich interessiert\, wie Wissen\, das früher kaum zugänglich war\, h
 eute geteilt und neu interpretiert werden kann – besonders in Hinblick a
 uf den weiblichen Körper. Frauenkrankheiten waren lange ein Randthema der
  Medizin\; inzwischen hat sich das Bewusstsein verändert. Meine Arbeit ve
 rsteht sich als Verbindung zwischen diesem Wandel und dem Erbe der Ausgren
 zung – Scham und Wut übersetze ich ins Bildhafte.“\n\nEs entsteht ein
  dichtes Geflecht von Narrationen\, Bildern und Assoziationen. Gefundene M
 aterialien\, Zeitungsausschnitte\, Fotografien\, ein Animationsfilm und Ze
 ichnungen werden gemeinsam mit Malereien zu einem Ganzen verschmolzen\, da
 s ein vielschichtiges und berührendes Bild zeichnet\, was es bedeutet\, F
 rau\, Freundin\, Mutter oder Tochter zu sein.\n\nRahmenprogramm\n\nMittwoc
 h\, den 20. Mai 2026\, 18 Uhr Buchpräsentation My body is my studio mit N
 iina Lehtonen Braun\, moderiert von Julia Meyer-Brehm (Kunstwissenschaftle
 rin) in Kooperation mit dem Finnland-Institut.\n\nDonnerstag\, den 24. Sep
 tember 2026\, 18 Uhr Meet-the-artist mit Niina Lehtonen Braun\n\nLaufzeit 
 der Ausstellung\n14.05.2026–27.09.2026\nMo-So\, 10–18 Uhr I Eintritt f
 rei\n\nSchwartzsche Villa\nGrunewaldstraße 55 I 12165 Berlin
LOCATION:Schwartzsche Villa\, Grunewaldstr. 55\, Berlin\, 12165\, Deutschla
 nd
GEO:52.45724300000001;13.319725699999935
X-APPLE-STRUCTURED-LOCATION;VALUE=URI;X-ADDRESS=Grunewaldstr. 55\, Berlin\,
  12165\, Deutschland;X-APPLE-RADIUS=100;X-TITLE=Schwartzsche Villa:geo:52.
 45724300000001,13.319725699999935
END:VEVENT
BEGIN:VTIMEZONE
TZID:Europe/Berlin
X-LIC-LOCATION:Europe/Berlin
BEGIN:DAYLIGHT
DTSTART:20260329T030000
TZOFFSETFROM:+0100
TZOFFSETTO:+0200
TZNAME:CEST
END:DAYLIGHT
END:VTIMEZONE
END:VCALENDAR