BEGIN:VCALENDAR
VERSION:2.0
PRODID:-//wp-events-plugin.com//5.99//EN
TZID:Europe/Berlin
X-WR-TIMEZONE:Europe/Berlin
BEGIN:VEVENT
UID:9931@kulturinsz.de
DTSTART;TZID=Europe/Berlin:20260513T180000
DTEND;TZID=Europe/Berlin:20260513T210000
DTSTAMP:20260407T131137Z
URL:https://kulturinsz.de/cms/aktuelles/events/vernissage-niina-lehtonen-b
 raun-my-body-is-my-studio/
SUMMARY:Vernissage Niina Lehtonen Braun – My body is my studio.
DESCRIPTION: Eröffnung der Ausstellung:\nMi\, 13. Mai 2026 18–21 Uhr\n\n
 Begrüßung\nMalgorzata Sijbrandij\nBezirksstadträtin für Bildung\, Kult
 ur und Sport\n\nBegrüßung\nDr. Mirjami Schuppert\nProgrammreferentin Fin
 nland-Institut\n\nEinführung\nDr. Christine Nippe\nKuratorin der Ausstell
 ung\n\nDie Einzelausstellung in der Schwartzschen Villa von Niina Lehtonen
  Braun My body is my studio beschäftigt sich mit dem weiblichen Körper u
 nd seinen Veränderungen\, wie beispielsweise durch die Wechseljahre oder 
 Geburt und den sogenannten Frauenkrankheiten. Für die von Christine Nippe
  kuratierte Ausstellung sammelte Lehtonen Braun Geschichten\, Anekdoten un
 d Erinnerungen anderer Frauen zu diesem Thema\, die sie in ihre Tuschemale
 reien\, Erzählcollagen und einen Animationsfilm überführt.\n\nBereits s
 eit vielen Jahren erkundet Niina Lehtonen Braun in ihren Collagen und Gem
 älden die Frau als Teil einer Generationenkette\, verschiedene Rollen des
  Frauseins und die damit verbundenen Erwartungen und Zuschreibungen. Die A
 usstellung und das Kunstbuch ermöglichen durch die eigenen persönlichen 
 Themen einen sensiblen Zugang für Andere und ein Eintauchen in Fragen run
 d um den weiblichen Körper. Ausstellung und Buch verstehen sich dabei als
  alternative Auseinandersetzungen mit Weiblichkeit und bilden eine andere 
 Erzählung als es jahrelang die Medizin praktizierte\, die vor allem vom m
 ännlichen Körper ausging und damit der Besonderheit des weiblichen Körp
 ers wenig Beachtung schenkte.\n\nDie Künstlerin dazu: „Mich interessier
 t\, wie Wissen\, das früher kaum zugänglich war\, heute geteilt und neu 
 interpretiert werden kann – besonders in Hinblick auf den weiblichen Kö
 rper. Frauenkrankheiten waren lange ein Randthema der Medizin\; inzwischen
  hat sich das Bewusstsein verändert. Meine Arbeit versteht sich als Verbi
 ndung zwischen diesem Wandel und dem Erbe der Ausgrenzung – Scham und Wu
 t übersetze ich ins Bildhafte.“\n\nEs entsteht ein dichtes Geflecht von
  Narrationen\, Bildern und Assoziationen. Gefundene Materialien\, Zeitungs
 ausschnitte\, Fotografien\, ein Animationsfilm und Zeichnungen werden geme
 insam mit Malereien zu einem Ganzen verschmolzen\, das ein vielschichtiges
  und berührendes Bild zeichnet\, was es bedeutet\, Frau\, Freundin\, Mutt
 er oder Tochter zu sein.\n\nRahmenprogramm\n\nMittwoch\, den 20. Mai 2026\
 , 18 Uhr Buchpräsentation My body is my studio mit Niina Lehtonen Braun\,
  moderiert von Julia Meyer-Brehm (Kunstwissenschaftlerin) in Kooperation m
 it dem Finnland-Institut.\n\nDonnerstag\, den 24. September 2026\, 18 Uhr 
 Meet-the-artist mit Niina Lehtonen Braun\n\nLaufzeit der Ausstellung\n14.0
 5.2026–27.09.2026\nMo-So\, 10–18 Uhr I Eintritt frei\n\nSchwartzsche V
 illa\nGrunewaldstraße 55 I 12165 Berlin
LOCATION:Schwartzsche Villa\, Grunewaldstr. 55\, Berlin\, 12165\, Deutschla
 nd
GEO:52.45724300000001;13.319725699999935
X-APPLE-STRUCTURED-LOCATION;VALUE=URI;X-ADDRESS=Grunewaldstr. 55\, Berlin\,
  12165\, Deutschland;X-APPLE-RADIUS=100;X-TITLE=Schwartzsche Villa:geo:52.
 45724300000001,13.319725699999935
END:VEVENT
BEGIN:VTIMEZONE
TZID:Europe/Berlin
X-LIC-LOCATION:Europe/Berlin
BEGIN:DAYLIGHT
DTSTART:20260329T030000
TZOFFSETFROM:+0100
TZOFFSETTO:+0200
TZNAME:CEST
END:DAYLIGHT
END:VTIMEZONE
END:VCALENDAR